BEGIN:VCALENDAR
VERSION:2.0
PRODID:-//eventon.com NONSGML v1.0//EN
CALSCALE:GREGORIAN
METHOD:PUBLISH
BEGIN:VEVENT
UID:69e678460e392
DTSTAMP:20260420T190230Z
DTSTART:20250320
DTEND:20250321
LOCATION:
SUMMARY:Encontro APIGRAF 2025
DESCRIPTION:Este evento oferecerá uma oportunidade única para networking 
 num ambiente envolvente\,  onde o convívio entre profissionais de uma áre
 a que a todos apaixona\,  fomentará a troca de ideias e de experiências e
 nriquecedoras. Com uma agenda pensada para proporcionar momentos de conheci
 mento numa área que está no centro das preocupações empresariais\, [..]
 \nhttps://rotas.azores.gov.pt/events/encontro-apigraf-2025/
URL:https://rotas.azores.gov.pt/events/encontro-apigraf-2025/
END:VEVENT
END:VCALENDAR