BEGIN:VCALENDAR
VERSION:2.0
PRODID:-//eventon.com NONSGML v1.0//EN
CALSCALE:GREGORIAN
METHOD:PUBLISH
BEGIN:VEVENT
UID:69eaa09754f84
DTSTAMP:20260423T224335Z
DTSTART:20250512
DTEND:20250513
LOCATION:
SUMMARY:European Cetacean Society
DESCRIPTION:European Cetacean Society\nhttps://rotas.azores.gov.pt/events/e
 uropean-cetacean-society/
URL:https://rotas.azores.gov.pt/events/european-cetacean-society/
END:VEVENT
END:VCALENDAR