BEGIN:VCALENDAR
VERSION:2.0
PRODID:-//eventon.com NONSGML v1.0//EN
CALSCALE:GREGORIAN
METHOD:PUBLISH
BEGIN:VEVENT
UID:69ebc2ef87d91
DTSTAMP:20260424T192223Z
DTSTART:20250608
DTEND:20250609
LOCATION:
SUMMARY:Voto Municipal da Pentecostes
DESCRIPTION:Evento que decorre anualmente\,  sempre no Domingo de Espírito
  Santo\,  em virtude do Vulcão do Cabeço do Fogo\,  em 1672.\nhttps://rot
 as.azores.gov.pt/en/events/voto-municipal-da-pentecostes/
URL:https://rotas.azores.gov.pt/en/events/voto-municipal-da-pentecostes/
END:VEVENT
END:VCALENDAR